
BEGIN:VCALENDAR
VERSION:2.0
PRODID:-//Open University of Mauritius - ECPv6.15.20//NONSGML v1.0//EN
CALSCALE:GREGORIAN
METHOD:PUBLISH
X-WR-CALNAME:Open University of Mauritius
X-ORIGINAL-URL:https://open.ac.mu
X-WR-CALDESC:Events for Open University of Mauritius
REFRESH-INTERVAL;VALUE=DURATION:PT1H
X-Robots-Tag:noindex
X-PUBLISHED-TTL:PT1H
BEGIN:VTIMEZONE
TZID:UTC
BEGIN:STANDARD
TZOFFSETFROM:+0000
TZOFFSETTO:+0000
TZNAME:UTC
DTSTART:20220101T000000
END:STANDARD
END:VTIMEZONE
BEGIN:VEVENT
DTSTART;VALUE=DATE:20231002
DTEND;VALUE=DATE:20231004
DTSTAMP:20260422T100716
CREATED:20240614T051950Z
LAST-MODIFIED:20240614T052122Z
UID:1363-1696204800-1696377599@open.ac.mu
SUMMARY:𝐂𝐎𝐌𝐌𝐎𝐍𝐖𝐄𝐀𝐋𝐓𝐇 𝐎𝐅 𝐋𝐄𝐀𝐑𝐍𝐈𝐍𝐆
DESCRIPTION:Commonwealth Executive MBA/MPA –\n37th Meeting of the Academic Board\n& 15th Meeting of the Executive Governing Board \nChief Guests\nDelegates such as Vice-Chancellors and Senior Officials
URL:https://open.ac.mu/events/%f0%9d%90%82%f0%9d%90%8e%f0%9d%90%8c%f0%9d%90%8c%f0%9d%90%8e%f0%9d%90%8d%f0%9d%90%96%f0%9d%90%84%f0%9d%90%80%f0%9d%90%8b%f0%9d%90%93%f0%9d%90%87-%f0%9d%90%8e%f0%9d%90%85-%f0%9d%90%8b%f0%9d%90%84/
END:VEVENT
BEGIN:VEVENT
DTSTART;VALUE=DATE:20230927
DTEND;VALUE=DATE:20230928
DTSTAMP:20260422T100716
CREATED:20240614T051352Z
LAST-MODIFIED:20240614T051536Z
UID:1358-1695772800-1695859199@open.ac.mu
SUMMARY:𝑀𝑒𝑑𝑖𝑐𝑎𝑙 𝐶𝑃𝐷 𝐸𝑣𝑒𝑛𝑡
DESCRIPTION:𝑮𝒆́𝒏𝒐𝒎𝒊𝒒𝒖𝒆 𝒅𝒖 𝑫𝒊𝒂𝒃𝒆̀𝒕𝒆 𝒆𝒕 𝑴𝒂𝒍𝒂𝒅𝒊𝒆𝒔 𝑴𝒆́𝒕𝒂𝒃𝒐𝒍𝒊𝒒𝒖𝒆𝒔 : 𝑴𝑨𝑼𝑹𝑰𝑪𝑬 𝑨𝑼 𝑪𝑬𝑵𝑻𝑹𝑬 𝑫𝑼 𝑴𝑶𝑵𝑫𝑬 \nChief Guest\n𝐏𝐫𝐨𝐟𝐞𝐬𝐬𝐨𝐫 𝐏𝐇𝐈𝐋𝐈𝐏𝐏𝐄 𝐅𝐑𝐎𝐆𝐔𝐄𝐋
URL:https://open.ac.mu/events/%f0%9d%91%80%f0%9d%91%92%f0%9d%91%91%f0%9d%91%96%f0%9d%91%90%f0%9d%91%8e%f0%9d%91%99-%f0%9d%90%b6%f0%9d%91%83%f0%9d%90%b7-%f0%9d%90%b8%f0%9d%91%a3%f0%9d%91%92%f0%9d%91%9b%f0%9d%91%a1/
LOCATION:Le Suffren Hotel
END:VEVENT
BEGIN:VEVENT
DTSTART;VALUE=DATE:20230908
DTEND;VALUE=DATE:20230909
DTSTAMP:20260422T100716
CREATED:20240614T051106Z
LAST-MODIFIED:20240614T051228Z
UID:1354-1694131200-1694217599@open.ac.mu
SUMMARY:𝑪𝒆𝒍𝒆𝒃𝒓𝒂𝒕𝒊𝒐𝒏 𝒐𝒇 𝑰𝒏𝒕𝒆𝒓𝒏𝒂𝒕𝒊𝒐𝒏𝒂𝒍 𝑳𝒊𝒕𝒆𝒓𝒂𝒄𝒚 𝑫𝒂𝒚
DESCRIPTION:Chief Guest\nMr Barlen Vyapoory
URL:https://open.ac.mu/events/%f0%9d%91%aa%f0%9d%92%86%f0%9d%92%8d%f0%9d%92%86%f0%9d%92%83%f0%9d%92%93%f0%9d%92%82%f0%9d%92%95%f0%9d%92%8a%f0%9d%92%90%f0%9d%92%8f-%f0%9d%92%90%f0%9d%92%87-%f0%9d%91%b0%f0%9d%92%8f%f0%9d%92%95/
LOCATION:Open University of Mauritius\, Reduit\, Mauritius
END:VEVENT
BEGIN:VEVENT
DTSTART;VALUE=DATE:20230907
DTEND;VALUE=DATE:20230908
DTSTAMP:20260422T100716
CREATED:20240613T133328Z
LAST-MODIFIED:20240613T133514Z
UID:1351-1694044800-1694131199@open.ac.mu
SUMMARY:Visit of the 𝐴𝑚𝑏𝑎𝑠𝑠𝑎𝑑𝑜𝑟 𝑜𝑓 𝑡ℎ𝑒 𝑆𝑡𝑎𝑡𝑒 𝑜𝑓 𝐼𝑠𝑟𝑎𝑒𝑙 𝑡𝑜 𝑡ℎ𝑒 𝑅𝑒𝑝𝑢𝑏𝑙𝑖𝑐 𝑜𝑓 𝑀𝑎𝑢𝑟𝑖𝑡𝑖𝑢𝑠
DESCRIPTION:Chief Guest\n𝑴𝒓 𝑬𝒍𝒊𝒂𝒗 𝑩𝒆𝒍𝒐𝒕𝒔𝒆𝒓𝒌𝒐𝒗𝒔𝒌𝒚\nThe Ambassador
URL:https://open.ac.mu/events/visit-of-the-%f0%9d%90%b4%f0%9d%91%9a%f0%9d%91%8f%f0%9d%91%8e%f0%9d%91%a0%f0%9d%91%a0%f0%9d%91%8e%f0%9d%91%91%f0%9d%91%9c%f0%9d%91%9f-%f0%9d%91%9c%f0%9d%91%93-%f0%9d%91%a1%e2%84%8e%f0%9d%91%92/
LOCATION:Open University of Mauritius\, Reduit\, Mauritius
END:VEVENT
BEGIN:VEVENT
DTSTART;VALUE=DATE:20230901
DTEND;VALUE=DATE:20230903
DTSTAMP:20260422T100716
CREATED:20240613T133139Z
LAST-MODIFIED:20240613T133238Z
UID:1348-1693526400-1693699199@open.ac.mu
SUMMARY:Career and Learning Lounge
DESCRIPTION:
URL:https://open.ac.mu/events/career-and-learning-lounge/
LOCATION:Caudan Arts Centre
END:VEVENT
BEGIN:VEVENT
DTSTART;VALUE=DATE:20230807
DTEND;VALUE=DATE:20230808
DTSTAMP:20260422T100716
CREATED:20240613T132943Z
LAST-MODIFIED:20240613T133058Z
UID:1345-1691366400-1691452799@open.ac.mu
SUMMARY:Induction Session & Award of Certificates – Foundation in Hotel Management and Catering Technologies
DESCRIPTION:Chief Guest\nDr Ripudaman Sharma\, Director International Programme – IM GK\, India
URL:https://open.ac.mu/events/induction-session-award-of-certificates-foundation-in-hotel-management-and-catering-technologies/
LOCATION:Open University of Mauritius\, Reduit\, Mauritius
END:VEVENT
BEGIN:VEVENT
DTSTART;VALUE=DATE:20230802
DTEND;VALUE=DATE:20230803
DTSTAMP:20260422T100716
CREATED:20240613T132729Z
LAST-MODIFIED:20240613T132854Z
UID:1342-1690934400-1691020799@open.ac.mu
SUMMARY:𝐓𝐚𝐥𝐤 𝐛𝐲 𝐏𝐫𝐨𝐟𝐞𝐬𝐬𝐨𝐫 𝐀𝐤𝐚𝐬𝐡 𝐒𝐚𝐱𝐞𝐧𝐚 𝐚𝐭 𝐭𝐡𝐞 𝐎𝐩𝐞𝐧 𝐔𝐧𝐢𝐯𝐞𝐫𝐬𝐢𝐭𝐲 𝐨𝐟 𝐌𝐚𝐮𝐫𝐢𝐭𝐢𝐮𝐬
DESCRIPTION:Chief Guest\nProfessor Akash Saxena
URL:https://open.ac.mu/events/%f0%9d%90%93%f0%9d%90%9a%f0%9d%90%a5%f0%9d%90%a4-%f0%9d%90%9b%f0%9d%90%b2-%f0%9d%90%8f%f0%9d%90%ab%f0%9d%90%a8%f0%9d%90%9f%f0%9d%90%9e%f0%9d%90%ac%f0%9d%90%ac%f0%9d%90%a8%f0%9d%90%ab-%f0%9d%90%80/
LOCATION:Open University of Mauritius\, Reduit\, Mauritius
END:VEVENT
BEGIN:VEVENT
DTSTART;VALUE=DATE:20230719
DTEND;VALUE=DATE:20230722
DTSTAMP:20260422T100716
CREATED:20240613T132417Z
LAST-MODIFIED:20240628T120500Z
UID:1337-1689724800-1689983999@open.ac.mu
SUMMARY:𝟏𝐬𝐭 𝐄𝐦𝐨𝐭𝐢𝐨𝐧𝐚𝐥 𝐖𝐞𝐥𝐥-𝐁𝐞𝐢𝐧𝐠 𝐈𝐧𝐭𝐞𝐫𝐧𝐚𝐭𝐢𝐨𝐧𝐚𝐥 𝐂𝐨𝐧𝐟𝐞𝐫𝐞𝐧𝐜𝐞 𝟐𝟎𝟐𝟑 𝐎𝐫𝐠𝐚𝐧𝐢𝐬𝐞𝐝 𝐛𝐲: 𝐄𝐦𝐨𝐭𝐢𝐨𝐧𝐚𝐥 𝐖𝐞𝐥𝐥-𝐁𝐞𝐢𝐧𝐠 𝐈𝐧𝐬𝐭𝐢𝐭𝐮𝐭𝐞\, 𝐎𝐩𝐞𝐧 𝐔𝐧𝐢𝐯𝐞𝐫𝐬𝐢𝐭𝐲 𝐨𝐟 𝐌𝐚𝐮𝐫𝐢𝐭𝐢𝐮𝐬 & 𝐌𝐢𝐝𝐝𝐥𝐞𝐬𝐞𝐱 𝐔𝐧𝐢𝐯𝐞𝐫𝐬𝐢𝐭𝐲\, 𝐌𝐚𝐮𝐫𝐢𝐭𝐢𝐮𝐬
DESCRIPTION:Chief Guests\n𝐌𝐫 𝐏𝐫𝐢𝐭𝐡𝐯𝐢𝐫𝐚𝐣𝐬𝐢𝐧𝐠 𝐑𝐨𝐨𝐩𝐮𝐧 𝐆.𝐂.𝐒.𝐊\n&\nProf (Dr) Basseer Jeeawody\, Founder and Executive Chairman of the Emotional Well Being Institute
URL:https://open.ac.mu/events/%f0%9d%9f%8f%f0%9d%90%ac%f0%9d%90%ad-%f0%9d%90%84%f0%9d%90%a6%f0%9d%90%a8%f0%9d%90%ad%f0%9d%90%a2%f0%9d%90%a8%f0%9d%90%a7%f0%9d%90%9a%f0%9d%90%a5-%f0%9d%90%96%f0%9d%90%9e%f0%9d%90%a5%f0%9d%90%a5/
LOCATION:Pearle Beach Resort & Spa Mauritius
END:VEVENT
BEGIN:VEVENT
DTSTART;VALUE=DATE:20230714
DTEND;VALUE=DATE:20230715
DTSTAMP:20260422T100716
CREATED:20240613T132155Z
LAST-MODIFIED:20240613T132338Z
UID:1333-1689292800-1689379199@open.ac.mu
SUMMARY:𝑃𝑟𝑒𝑠𝑒𝑛𝑡𝑎𝑡𝑖𝑜𝑛 𝑜𝑓 𝐶𝑒𝑟𝑡𝑖𝑓𝑖𝑐𝑎𝑡𝑒𝑠 𝐶𝑒𝑟𝑒𝑚𝑜𝑛𝑦 𝑓𝑜𝑟 𝑝𝑟𝑜𝑔𝑟𝑎𝑚𝑚𝑒𝑠 𝑟𝑢𝑛 𝑢𝑛𝑑𝑒𝑟 𝑒-𝑉𝑖𝑑𝑦𝑎𝐵ℎ𝑎𝑟𝑎𝑡𝑖 𝑎𝑛𝑑 𝑒-𝐴𝑎𝑟𝑜𝑔𝑦𝑎𝐵ℎ𝑎𝑟𝑎𝑡𝑖  (𝑒-𝑉𝐵𝐴𝐵) 𝑝𝑟𝑜𝑗𝑒𝑐𝑡  by 𝑂𝑃𝐸𝑁 𝑈𝑁𝐼𝑉𝐸𝑅𝑆𝐼𝑇𝑌 𝑂𝐹 𝑀𝐴𝑈𝑅𝐼𝑇𝐼𝑈𝑆 & 𝐻𝐼𝐺𝐻 𝐶𝑂𝑀𝑀𝐼𝑆𝑆𝐼𝑂𝑁 𝑂𝐹 𝐼𝑁𝐷𝐼𝐴
DESCRIPTION:Chief Guests\nThe Indian High Commisioner\, Mrs Nandini Singla\n& The Hon. Minister of Education\, Tertiary Education\, Science and Technology (Mauritius) – Mrs Leela Devi-Dookun Luchoomun
URL:https://open.ac.mu/events/%f0%9d%91%83%f0%9d%91%9f%f0%9d%91%92%f0%9d%91%a0%f0%9d%91%92%f0%9d%91%9b%f0%9d%91%a1%f0%9d%91%8e%f0%9d%91%a1%f0%9d%91%96%f0%9d%91%9c%f0%9d%91%9b-%f0%9d%91%9c%f0%9d%91%93-%f0%9d%90%b6%f0%9d%91%92/
LOCATION:Open University of Mauritius\, Reduit\, Mauritius
END:VEVENT
BEGIN:VEVENT
DTSTART;VALUE=DATE:20230515
DTEND;VALUE=DATE:20230516
DTSTAMP:20260422T100716
CREATED:20240613T131937Z
LAST-MODIFIED:20240613T132035Z
UID:1331-1684108800-1684195199@open.ac.mu
SUMMARY:𝑷𝑶𝑬𝑻𝑹𝒀 𝑹𝑬𝑨𝑫𝑰𝑵𝑮 𝑺𝑬𝑺𝑺𝑰𝑶𝑵
DESCRIPTION:𝑃𝑟𝑒𝑠𝑖𝑑𝑒𝑛𝑡’𝑠 𝐹𝑢𝑛𝑑 𝑓𝑜𝑟 𝐶𝑟𝑒𝑎𝑡𝑖𝑣𝑒 𝑊𝑟𝑖𝑡𝑖𝑛𝑔\n𝑢𝑛𝑑𝑒𝑟 𝑡ℎ𝑒 𝑎𝑒𝑔𝑖𝑠 𝑜𝑓 𝑡ℎ𝑒 𝑀𝑖𝑛𝑖𝑠𝑡𝑟𝑦 𝑜𝑓 𝐴𝑟𝑡𝑠 𝑎𝑛𝑑 𝐶𝑢𝑙𝑡𝑢𝑟𝑎𝑙 𝐻𝑒𝑟𝑖𝑡𝑎𝑔𝑒\n𝑖𝑛 𝑐𝑜𝑙𝑙𝑎𝑏𝑜𝑟𝑎𝑡𝑖𝑜𝑛 𝑤𝑖𝑡ℎ 𝑡ℎ𝑒 𝑂𝑝𝑒𝑛 𝑈𝑛𝑖𝑣𝑒𝑟𝑠𝑖𝑡𝑦 𝑜𝑓 𝑀𝑎𝑢𝑟𝑖𝑡𝑖𝑢𝑠
URL:https://open.ac.mu/events/%f0%9d%91%b7%f0%9d%91%b6%f0%9d%91%ac%f0%9d%91%bb%f0%9d%91%b9%f0%9d%92%80-%f0%9d%91%b9%f0%9d%91%ac%f0%9d%91%a8%f0%9d%91%ab%f0%9d%91%b0%f0%9d%91%b5%f0%9d%91%ae-%f0%9d%91%ba%f0%9d%91%ac%f0%9d%91%ba/
LOCATION:Open University of Mauritius\, Reduit\, Mauritius
END:VEVENT
BEGIN:VEVENT
DTSTART;VALUE=DATE:20230505
DTEND;VALUE=DATE:20230506
DTSTAMP:20260422T100716
CREATED:20240613T131612Z
LAST-MODIFIED:20240613T131741Z
UID:1328-1683244800-1683331199@open.ac.mu
SUMMARY:𝑉𝑖𝑠𝑖𝑡 𝑜𝑓 𝐻𝑒𝑟 𝐸𝑥𝑐𝑒𝑙𝑙𝑒𝑛𝑐𝑦 𝐷𝑟 𝑀𝑎𝑟𝑖𝑎 𝑑𝑜 𝑅𝑜𝑠𝑎𝑟𝑖𝑜 𝐵𝑟𝑎𝑔𝑎𝑛𝑐̧𝑎 𝑀𝑖𝑛𝑖𝑠𝑡𝑒𝑟 𝑜𝑓 𝐻𝑖𝑔ℎ𝑒𝑟 𝐸𝑑𝑢𝑐𝑎𝑡𝑖𝑜𝑛\, 𝑆𝑐𝑖𝑒𝑛𝑐𝑒\, 𝑇𝑒𝑐ℎ𝑛𝑜𝑙𝑜𝑔𝑦 𝑎𝑛𝑑 𝐼𝑛𝑛𝑜𝑣𝑎𝑡𝑖𝑜𝑛  𝑎𝑛𝑑 𝑑𝑖𝑠𝑡𝑖𝑛𝑔𝑢𝑖𝑠ℎ𝑒𝑑 𝑑𝑒𝑙𝑒𝑔𝑎𝑡𝑒𝑠 𝑓𝑟𝑜𝑚 𝑡ℎ𝑒 𝑅𝑒𝑝𝑢𝑏𝑙𝑖𝑐 𝑜𝑓 𝐴𝑛𝑔𝑜𝑙𝑎
DESCRIPTION:Chief Guest \n𝐷𝑟 𝑀𝑎𝑟𝑖𝑎 𝑑𝑜 𝑅𝑜𝑠𝑎𝑟𝑖𝑜 𝐵𝑟𝑎𝑔𝑎𝑛𝑐̧𝑎\n& Other Delegates
URL:https://open.ac.mu/events/%f0%9d%91%89%f0%9d%91%96%f0%9d%91%a0%f0%9d%91%96%f0%9d%91%a1-%f0%9d%91%9c%f0%9d%91%93-%f0%9d%90%bb%f0%9d%91%92%f0%9d%91%9f-%f0%9d%90%b8%f0%9d%91%a5%f0%9d%91%90%f0%9d%91%92%f0%9d%91%99%f0%9d%91%99/
LOCATION:Open University of Mauritius\, Reduit\, Mauritius
END:VEVENT
BEGIN:VEVENT
DTSTART;VALUE=DATE:20230428
DTEND;VALUE=DATE:20230430
DTSTAMP:20260422T100716
CREATED:20240613T131334Z
LAST-MODIFIED:20240613T131508Z
UID:1325-1682640000-1682812799@open.ac.mu
SUMMARY:Convocation Ceremony
DESCRIPTION:
URL:https://open.ac.mu/events/convocation-ceremony/
LOCATION:Mahatma Gandhi Institute – Auditorium\, Moka
END:VEVENT
BEGIN:VEVENT
DTSTART;VALUE=DATE:20230424
DTEND;VALUE=DATE:20230425
DTSTAMP:20260422T100716
CREATED:20240613T131059Z
LAST-MODIFIED:20240613T131239Z
UID:1321-1682294400-1682380799@open.ac.mu
SUMMARY:𝐏𝐫𝐞́𝐬𝐞𝐧𝐭𝐚𝐭𝐢𝐨𝐧 𝐝𝐞 𝐥𝐢𝐯𝐫𝐞𝐬 𝐬𝐮𝐫 𝐥’𝐈𝐧𝐭𝐞𝐫𝐜𝐮𝐥𝐭𝐮𝐫𝐞𝐥
DESCRIPTION:Chief Guest\n𝐃𝐫 𝐈𝐬𝐬𝐚 𝐀𝐬𝐠𝐚𝐫𝐚𝐥𝐥𝐲\, 𝐂𝐒𝐊
URL:https://open.ac.mu/events/%f0%9d%90%8f%f0%9d%90%ab%f0%9d%90%9e%f0%9d%90%ac%f0%9d%90%9e%f0%9d%90%a7%f0%9d%90%ad%f0%9d%90%9a%f0%9d%90%ad%f0%9d%90%a2%f0%9d%90%a8%f0%9d%90%a7-%f0%9d%90%9d%f0%9d%90%9e-%f0%9d%90%a5%f0%9d%90%a2/
LOCATION:Open University of Mauritius\, Reduit\, Mauritius
END:VEVENT
BEGIN:VEVENT
DTSTART;VALUE=DATE:20230413
DTEND;VALUE=DATE:20230414
DTSTAMP:20260422T100716
CREATED:20240613T130845Z
LAST-MODIFIED:20240613T130924Z
UID:1319-1681344000-1681430399@open.ac.mu
SUMMARY:𝐀𝐖𝐀𝐑𝐃 𝐂𝐄𝐑𝐄𝐌𝐎𝐍𝐘 𝐂𝐞𝐫𝐭𝐢𝐟𝐢𝐜𝐚𝐭𝐞 𝐢𝐧 𝐒𝐜𝐡𝐨𝐨𝐥 𝐌𝐚𝐧𝐚𝐠𝐞𝐦𝐞𝐧𝐭 –  Open University of Mauritius in collaboration with Service Diocésain de l’Education Catholique (SeDEC)
DESCRIPTION:
URL:https://open.ac.mu/events/%f0%9d%90%80%f0%9d%90%96%f0%9d%90%80%f0%9d%90%91%f0%9d%90%83-%f0%9d%90%82%f0%9d%90%84%f0%9d%90%91%f0%9d%90%84%f0%9d%90%8c%f0%9d%90%8e%f0%9d%90%8d%f0%9d%90%98-%f0%9d%90%82%f0%9d%90%9e%f0%9d%90%ab/
LOCATION:Open University of Mauritius\, Reduit\, Mauritius
END:VEVENT
BEGIN:VEVENT
DTSTART;VALUE=DATE:20230321
DTEND;VALUE=DATE:20230322
DTSTAMP:20260422T100716
CREATED:20240613T130609Z
LAST-MODIFIED:20240613T130650Z
UID:1317-1679356800-1679443199@open.ac.mu
SUMMARY:Signature of Memorandum of Agreement between Open University of Mauritius & Concentrix
DESCRIPTION:
URL:https://open.ac.mu/events/signature-of-memorandum-of-agreement-between-open-university-of-mauritius-concentrix/
LOCATION:Open University of Mauritius\, Reduit\, Mauritius
END:VEVENT
BEGIN:VEVENT
DTSTART;VALUE=DATE:20230317
DTEND;VALUE=DATE:20230318
DTSTAMP:20260422T100716
CREATED:20240613T130348Z
LAST-MODIFIED:20240613T130515Z
UID:1314-1679011200-1679097599@open.ac.mu
SUMMARY:Live Interactive Event in International Graduate Diploma in Financial Crime Compliance (IGDFCC)
DESCRIPTION:
URL:https://open.ac.mu/events/live-interactive-event-in-international-graduate-diploma-in-financial-crime-compliance-igdfcc/
LOCATION:YouTube
END:VEVENT
BEGIN:VEVENT
DTSTART;VALUE=DATE:20230310
DTEND;VALUE=DATE:20230311
DTSTAMP:20260422T100716
CREATED:20240613T125931Z
LAST-MODIFIED:20240613T130043Z
UID:1312-1678406400-1678492799@open.ac.mu
SUMMARY:55th Anniversary of Independence & 31st Anniversary of Republic of Mauritius
DESCRIPTION:
URL:https://open.ac.mu/events/55th-anniversary-of-independence-31st-anniversary-of-republic-of-mauritius/
LOCATION:Open University of Mauritius\, Reduit\, Mauritius
END:VEVENT
BEGIN:VEVENT
DTSTART;VALUE=DATE:20230308
DTEND;VALUE=DATE:20230309
DTSTAMP:20260422T100716
CREATED:20240613T125422Z
LAST-MODIFIED:20240613T125501Z
UID:1310-1678233600-1678319999@open.ac.mu
SUMMARY:Research Seminar – Promoting Research at the Open University of Mauritius
DESCRIPTION:
URL:https://open.ac.mu/events/research-seminar-promoting-research-at-the-open-university-of-mauritius/
LOCATION:Open University of Mauritius\, Reduit\, Mauritius
END:VEVENT
BEGIN:VEVENT
DTSTART;VALUE=DATE:20230307
DTEND;VALUE=DATE:20230308
DTSTAMP:20260422T100716
CREATED:20240613T125045Z
LAST-MODIFIED:20240613T125258Z
UID:1307-1678147200-1678233599@open.ac.mu
SUMMARY:Elsevier solutions Training Session
DESCRIPTION:CHIEF GUESTS\nMr Shalan from Elsevier
URL:https://open.ac.mu/events/elsevier-solutions-training-session/
LOCATION:Open University of Mauritius\, Reduit\, Mauritius
END:VEVENT
BEGIN:VEVENT
DTSTART;VALUE=DATE:20230228
DTEND;VALUE=DATE:20230301
DTSTAMP:20260422T100716
CREATED:20240613T124538Z
LAST-MODIFIED:20240613T124911Z
UID:1303-1677542400-1677628799@open.ac.mu
SUMMARY:Welcoming of International Learners
DESCRIPTION:
URL:https://open.ac.mu/events/welcoming-of-international-learners/
LOCATION:Open University of Mauritius\, Reduit\, Mauritius
END:VEVENT
BEGIN:VEVENT
DTSTART;VALUE=DATE:20230210
DTEND;VALUE=DATE:20230213
DTSTAMP:20260422T100716
CREATED:20240613T123600Z
LAST-MODIFIED:20240613T124215Z
UID:1299-1675987200-1676246399@open.ac.mu
SUMMARY:Mauritius International University and Career Expo
DESCRIPTION:
URL:https://open.ac.mu/events/mauritius-international-university-and-career-expo/
LOCATION:SVICC\, Pailles\, Mauritius
END:VEVENT
END:VCALENDAR